BEGIN:VCALENDAR
VERSION:2.0
PRODID:-//jEvents 2.0 for Joomla//EN
CALSCALE:GREGORIAN
METHOD:PUBLISH
BEGIN:VEVENT
UID:12aeb9c47a7c304746786c71d78efbb3
CATEGORIES:PACIFIC
CREATED:20160205T091606
SUMMARY:MAGIC
LOCATION:Las Vegas\, NV
DESCRIPTION:
DTSTAMP:20260419T125408
DTSTART;VALUE=DATE:20160217
DTEND;VALUE=DATE:20160220
SEQUENCE:0
TRANSP:OPAQUE
END:VEVENT
END:VCALENDAR