BEGIN:VCALENDAR
VERSION:2.0
PRODID:-//jEvents 2.0 for Joomla//EN
CALSCALE:GREGORIAN
METHOD:PUBLISH
BEGIN:VEVENT
UID:0596bde5ff936e38ea1bac9e2f913fb9
CATEGORIES:EAST
CREATED:20160205T091843
SUMMARY:EWSRA WINTER SPORTS EXPO
LOCATION:Atlantic City\, NJ
DESCRIPTION:EWSRA Winter Sports ExpoFebruary 23-25, 2016Atlantic City, NJhttp://ewsra.o
 rg\n
X-ALT-DESC;FMTTYPE=text/html:<p><span style="font-family: Verdana; font-size: 12px; line-height: 18px;">
 EWSRA Winter Sports Expo</span><br style="font-family: Verdana; font-size: 
 12px; line-height: 18px;" /><span style="font-family: Verdana; font-size: 1
 2px; line-height: 18px;">February 23-25, 2016</span><br style="font-family:
  Verdana; font-size: 12px; line-height: 18px;" /><span style="font-family: 
 Verdana; font-size: 12px; line-height: 18px;">Atlantic City, NJ</span><br s
 tyle="font-family: Verdana; font-size: 12px; line-height: 18px;" /><span st
 yle="font-family: Verdana; font-size: 12px; line-height: 18px;">http://ewsr
 a.org</span></p>
DTSTAMP:20260419T132528
DTSTART;VALUE=DATE:20160223
DTEND;VALUE=DATE:20160226
SEQUENCE:0
TRANSP:OPAQUE
END:VEVENT
END:VCALENDAR