BEGIN:VCALENDAR
VERSION:2.0
PRODID:-//jEvents 2.0 for Joomla//EN
CALSCALE:GREGORIAN
METHOD:PUBLISH
BEGIN:VEVENT
UID:cbb90c1b30caa10de7900a5bbe9687c2
CATEGORIES:EAST
CREATED:20180816T162308
SUMMARY:NSAA Fall Education Seminar
LOCATION:Bryce Resort\, VA
DESCRIPTION:NSAA Fall Education Seminar\n
September 21, 2018\n
Bryce Resort, VA\n
www.n
 saa.org\n
X-ALT-DESC;FMTTYPE=text/html:<p>NSAA Fall Education Seminar</p><p>September 21, 2018</p><p>Bryce Resort,
  VA</p><p>www.nsaa.org</p>
DTSTAMP:20260420T082007
DTSTART;VALUE=DATE:20180921
DTEND;VALUE=DATE:20180922
SEQUENCE:0
TRANSP:OPAQUE
END:VEVENT
END:VCALENDAR