BEGIN:VCALENDAR
VERSION:2.0
PRODID:-//jEvents 2.0 for Joomla//EN
CALSCALE:GREGORIAN
METHOD:PUBLISH
BEGIN:VEVENT
UID:b33d268306bb9c9f64b6ed3b6b595027
CATEGORIES:PACIFIC
CREATED:20190129T115054
SUMMARY:Association of Professional Patrollers Clinic
LOCATION:Big Bear\, CA
DESCRIPTION:<p>Association of Professional Patrollers Clinic</p><p>March 8-10</p><p>Big
  Bear, CA</p><p>www.propatrollers.org</p>
DTSTAMP:20260422T023614
DTSTART;VALUE=DATE:20190308
DTEND;VALUE=DATE:20190311
SEQUENCE:0
TRANSP:OPAQUE
END:VEVENT
END:VCALENDAR