BEGIN:VCALENDAR
VERSION:2.0
PRODID:-//jEvents 2.0 for Joomla//EN
CALSCALE:GREGORIAN
METHOD:PUBLISH
BEGIN:VEVENT
UID:d1b464fb8d807b2051ffb27f4101c6bd
CATEGORIES:EAST
CREATED:20200317T121153
SUMMARY:ISKINY-PSAA EXPO-CANCELED
LOCATION:Camelback\, PA
DESCRIPTION:ISKINY-PSAA Expo\n
September 21-23, 2020\n
Camelback, PA\n
www.iskinyexpo.c
 om\n
X-ALT-DESC;FMTTYPE=text/html:<p>ISKINY-PSAA Expo</p><p>September 21-23, 2020</p><p>Camelback, PA</p><p>w
 ww.iskinyexpo.com</p>
DTSTAMP:20260425T165445
DTSTART;VALUE=DATE:20200921
DTEND;VALUE=DATE:20200924
SEQUENCE:0
TRANSP:OPAQUE
END:VEVENT
END:VCALENDAR