BEGIN:VCALENDAR
VERSION:2.0
PRODID:-//jEvents 2.0 for Joomla//EN
CALSCALE:GREGORIAN
METHOD:PUBLISH
BEGIN:VEVENT
UID:9db698d8363dcd01d287a348d8cd44f2
CATEGORIES:EAST
CREATED:20200706T163431
SUMMARY:360 Adventure Collective Southeast Winter Market
LOCATION:Greenville\, SC
DESCRIPTION:360 Adventure Collective Southeast Winter Market\n
November 16-19, 2020\n
G
 reenville, SC\n
www.360adventurecollective.org\n
 \n
X-ALT-DESC;FMTTYPE=text/html:<p>360 Adventure Collective Southeast Winter Market</p><p>November 16-19, 2
 020</p><p>Greenville, SC</p><p>www.360adventurecollective.org</p><p>&nbsp;<
 /p>
CONTACT:www.360adventurecollective.org
DTSTAMP:20260419T132610
DTSTART;VALUE=DATE:20201116
DTEND;VALUE=DATE:20201120
SEQUENCE:0
TRANSP:OPAQUE
END:VEVENT
END:VCALENDAR