BEGIN:VCALENDAR
VERSION:2.0
PRODID:-//jEvents 2.0 for Joomla//EN
CALSCALE:GREGORIAN
METHOD:PUBLISH
BEGIN:VEVENT
UID:ca23c2cc15df424ee705b2339d9fb47d
CATEGORIES:Online
CREATED:20200723T175134
SUMMARY:DEI Town Hall Series #4: 
LOCATION:https://snowsports.org/inclusion
DESCRIPTION:Creating Change Together Across the Winter Outdoor Industry\n
Tuesday, Augu
 st 25, 2020, 1:00 pm MDT\n
Overview: Collaboration across the industry asso
 ciations – winter outdoor industry leadership working together to create an
  agenda for change.\n
Moderator: Selema Masekela\n
Panelists and registrati
 on link coming soon\n
X-ALT-DESC;FMTTYPE=text/html:<p><b><span data-contrast="auto">Creating</span></b>&nbsp;<b><span data-con
 trast="auto">Change Together Across the Winter Outdoor Industry</span></b><
 span data-ccp-props="{}"></span></p><p><span data-contrast="auto">T</span><
 span data-contrast="auto">uesday, August 25</span><span data-contrast="auto
 ">, 2020,&nbsp;</span><span data-contrast="auto">1:00&nbsp;</span><span dat
 a-contrast="auto">p</span><span data-contrast="auto">m MDT</span></p><p><sp
 an data-contrast="auto">Overview:</span>&nbsp;<span data-contrast="auto">Co
 llaboration</span><span data-contrast="auto">&nbsp;across the industry asso
 ciations</span><span data-contrast="auto">&nbsp;–&nbsp;</span><span data-co
 ntrast="auto">winter outdoor industry leadership&nbsp;</span><span data-con
 trast="auto">working together to create&nbsp;</span><span data-contrast="au
 to">an agenda for</span><span data-contrast="auto">&nbsp;change</span><span
  data-contrast="auto">.</span><span data-ccp-props="{&quot;335559740&quot;:
 259}"></span></p><p><span data-contrast="auto">Moderator:&nbsp;</span><stro
 ng>Selema Masekela</strong></p><p>Panelists and registration link coming so
 on</p>
DTSTAMP:20260419T132610
DTSTART:20200825T130000
DTEND:20200825T140000
SEQUENCE:0
TRANSP:OPAQUE
END:VEVENT
END:VCALENDAR