BEGIN:VCALENDAR
VERSION:2.0
PRODID:-//jEvents 2.0 for Joomla//EN
CALSCALE:GREGORIAN
METHOD:PUBLISH
BEGIN:VEVENT
UID:657a661cbb082316db6557f6f1983cdc
CATEGORIES:Online
CREATED:20200723T180512
SUMMARY:Sustainable Operations = Sustainable Recovery
LOCATION:https://www.sustainablerecovery.us/
DESCRIPTION:

The Sustainable Recovery Series presented by SIA, POW and Bank of the Wes
 t\n
As COVID-19 redefines how we do business, new opportunities for small b
 usinesses are emerging. How can your business adapt to survive now and flou
 rish in the future? Join us for a 4-part webinar series that highlights tre
 nds and presents practical improvements for small businesses.\n
Sustainable
  Operations = Sustainable Recovery\n
Thursday August 6, 2020 12pm MNT\n
How
  do you adapt business operations in an unpredictable, stop-and-start econo
 mic environment? And how do you do it while maintaining a sustainable minds
 et? Hear from experienced experts on:\n

\n - Expanding digitally to drive 
 revenue
\n - Building and maintaining a sustainable supply chain
\n - How t
 o adapt your seasonal business, including winter sports, for long-term surv
 ival

Moderator: Coming Soon\n
Rebecca Heard, EVO.com\nComing Soon, Bank of
  the West\nComing Soon, SIA Retailer TBD\n


REGISTRATION INFO (https://web
 inar.ringcentral.com/webinar/register/WN_GE8J2EmFRH6XbPiQgZnlIA)
X-ALT-DESC;FMTTYPE=text/html:<div class="et_pb_module et_pb_text et_pb_text_5 et_pb_text_align_center et
 _pb_bg_layout_light et_had_animation"><div class="et_pb_text_inner"><p><str
 ong>The Sustainable Recovery Series presented by SIA, POW and Bank of the W
 est</strong></p><p>As COVID-19 redefines how we do business, new opportunit
 ies for small businesses are emerging. How can your business adapt to survi
 ve now and flourish in the future? Join us for a 4-part webinar series that
  highlights trends and presents practical improvements for small businesses
 .</p><p><strong>Sustainable Operations = Sustainable Recovery</strong></p><
 p>Thursday August 6, 2020 12pm MNT</p><p>How do you adapt business operatio
 ns in an unpredictable, stop-and-start economic environment? And how do you
  do it while maintaining a sustainable mindset? Hear from experienced exper
 ts on:</p><ul><li>Expanding digitally to drive revenue</li><li>Building and
  maintaining a sustainable supply chain</li><li>How to adapt your seasonal 
 business, including winter sports, for long-term survival</li></ul><p><stro
 ng>Moderator: Coming Soon</strong></p><p>Rebecca Heard, EVO.com<i><br /></i
 >Coming Soon,&nbsp;<i>Bank of the West</i><br />Coming Soon,<em>&nbsp;SIA R
 etailer TBD</em></p></div></div><div class="et_pb_button_module_wrapper et_
 pb_button_1_wrapper et_pb_button_alignment_center et_pb_module et_had_anima
 tion"><a class="et_pb_button et_pb_custom_button_icon et_pb_button_1 et_pb_
 bg_layout_dark" href="https://webinar.ringcentral.com/webinar/register/WN_G
 E8J2EmFRH6XbPiQgZnlIA" data-icon="$">REGISTRATION INFO</a></div>
DTSTAMP:20260419T145257
DTSTART:20200806T120000
DTEND:20200806T130000
SEQUENCE:0
TRANSP:OPAQUE
END:VEVENT
END:VCALENDAR