BEGIN:VCALENDAR
VERSION:2.0
PRODID:-//jEvents 2.0 for Joomla//EN
CALSCALE:GREGORIAN
METHOD:PUBLISH
BEGIN:VEVENT
UID:15ea0cead7b08a4feb6633f98d1df4f3
CATEGORIES:Online
CREATED:20200819T140045
SUMMARY:NSAA Webinar: Reopening Best Practices for Ski Areas
LOCATION:https://us02web.zoom.us/webinar/register/WN_bzk-bigETwqIzzLU2QPGrg?utm_sour
 ce=ASI+email+lists&amp;utm_campaign=203ae14845-20
DESCRIPTION:This is a "must attend" for all ski area owners and operators. 
NSAA will s
 hare and discuss its foundational executive summary document for winter ope
 rations, to be released in September. The document will set national operat
 ional best practices for the ski industry related to the COVID-19 pandemic.
  This executive summary is aimed at state and local authorities, intended t
 o help ski areas and state/regional associations advocate for our industry 
 this winter season.\n\nWe encourage all resort leaders to attend this discu
 ssion so we can provide a united front as an industry, with the collective 
 goals of building confidence in our state authorities so it becomes clear t
 hat we are the experts in our fields and have the knowledge and expertise t
 o manage our businesses safely, while providing winter recreation for milli
 ons of Americans.\n\nHave questions ahead of this webinar? Email  (mailto:n
 saa@nsaa.org?subject=August%2025%20webinar)nsaa@nsaa.org (mailto:nsaa@nsaa.
 org).\n
https://us02web.zoom.us/webinar/register/WN_bzk-bigETwqIzzLU2QPGrg?
 utm_source=ASI+email+lists&amp;utm_campaign=203ae14845-2020_August_Playbook
 _webinar&amp;utm_medium=email&amp;utm_term=0_d5bcda1dc3-203ae14845-10232829
 7\n
 \n
X-ALT-DESC;FMTTYPE=text/html:<h3>This is a "must attend"&nbsp;for all ski area owners and operators.&nbs
 p;</h3><p>NSAA will share and discuss its foundational executive summary do
 cument for winter operations, to be released in September. The document wil
 l set national operational best practices for the ski industry related to t
 he COVID-19 pandemic. This executive summary is aimed at state and local au
 thorities, intended to help ski areas and state/regional associations advoc
 ate for our industry this winter season.<br /><br />We encourage all resort
  leaders to attend this discussion so we can provide a united front as an i
 ndustry, with the collective goals of building confidence in our state auth
 orities so it becomes clear that we are the experts in our fields and have 
 the knowledge and expertise to manage our businesses safely, while providin
 g winter recreation for millions of Americans.<br /><br />Have questions ah
 ead of this webinar? Email&nbsp;<a href="mailto:nsaa@nsaa.org?subject=Augus
 t%2025%20webinar" target="_blank"></a><a href="mailto:nsaa@nsaa.org">nsaa@n
 saa.org</a>.</p><p><a href="https://us02web.zoom.us/webinar/register/WN_bzk
 -bigETwqIzzLU2QPGrg?utm_source=ASI+email+lists&amp;utm_campaign=203ae14845-
 2020_August_Playbook_webinar&amp;utm_medium=email&amp;utm_term=0_d5bcda1dc3
 -203ae14845-102328297">https://us02web.zoom.us/webinar/register/WN_bzk-bigE
 TwqIzzLU2QPGrg?utm_source=ASI+email+lists&amp;utm_campaign=203ae14845-2020_
 August_Playbook_webinar&amp;utm_medium=email&amp;utm_term=0_d5bcda1dc3-203a
 e14845-102328297</a></p><p>&nbsp;</p>
DTSTAMP:20260419T132528
DTSTART:20200825T130000
DTEND:20200825T140000
SEQUENCE:0
TRANSP:OPAQUE
END:VEVENT
END:VCALENDAR