BEGIN:VCALENDAR
VERSION:2.0
PRODID:-//jEvents 2.0 for Joomla//EN
CALSCALE:GREGORIAN
METHOD:PUBLISH
BEGIN:VEVENT
UID:7f638dffd8f3ba261ad1dd59200eef2a
CATEGORIES:Online
CREATED:20201007T191150
SUMMARY:NSAA Fall Education Seminar
LOCATION:www.nsaa.org
DESCRIPTION:<p>Risk Management, Safety, and COVID Legal Issues: Midwest Regional Breako
 ut</p><p>1pm EST</p>
DTSTAMP:20260419T145034
DTSTART;VALUE=DATE:20201112
DTEND;VALUE=DATE:20201113
SEQUENCE:0
TRANSP:OPAQUE
END:VEVENT
END:VCALENDAR