BEGIN:VCALENDAR
VERSION:2.0
PRODID:-//jEvents 2.0 for Joomla//EN
CALSCALE:GREGORIAN
METHOD:PUBLISH
BEGIN:VEVENT
UID:b8e6c5b066ffad8cb934f7424520b0aa
CATEGORIES:Online
CREATED:20201007T191211
SUMMARY:NSAA Fall Education Seminar
LOCATION:www.nsaa.org
DESCRIPTION:Risk Management, Safety, and COVID Legal Issues: Southeast Regional Breakou
 t\n
1pm EST\n
X-ALT-DESC;FMTTYPE=text/html:<p>Risk Management, Safety, and COVID Legal Issues: Southeast Regional Brea
 kout</p><p>1pm EST</p>
DTSTAMP:20260419T132610
DTSTART;VALUE=DATE:20201117
DTEND;VALUE=DATE:20201118
SEQUENCE:0
TRANSP:OPAQUE
END:VEVENT
END:VCALENDAR