BEGIN:VCALENDAR
VERSION:2.0
PRODID:-//jEvents 2.0 for Joomla//EN
CALSCALE:GREGORIAN
METHOD:PUBLISH
BEGIN:VEVENT
UID:7ceac75799122a8bf0f82ee7425c2516
CATEGORIES:Online
CREATED:20210125T000834
SUMMARY:IAAPA Safety Institute
DESCRIPTION:IAAPA Safety Institute\n
Febuary 22-23rd\n
https://web.cvent.com/event/2c8f
 6e8e-9bfb-433f-a76e-f89e08e9e906/summary?rp=00000000-0000-0000-0000-0000000
 00000 (https://web.cvent.com/event/2c8f6e8e-9bfb-433f-a76e-f89e08e9e906/sum
 mary?rp=00000000-0000-0000-0000-000000000000)\n
X-ALT-DESC;FMTTYPE=text/html:<p>IAAPA Safety Institute</p><p>Febuary 22-23rd</p><p><a href="https://web.
 cvent.com/event/2c8f6e8e-9bfb-433f-a76e-f89e08e9e906/summary?rp=00000000-00
 00-0000-0000-000000000000">https://web.cvent.com/event/2c8f6e8e-9bfb-433f-a
 76e-f89e08e9e906/summary?rp=00000000-0000-0000-0000-000000000000</a></p>
DTSTAMP:20260419T190926
DTSTART;VALUE=DATE:20210222
DTEND;VALUE=DATE:20210224
SEQUENCE:0
TRANSP:OPAQUE
END:VEVENT
END:VCALENDAR