BEGIN:VCALENDAR
VERSION:2.0
PRODID:-//jEvents 2.0 for Joomla//EN
CALSCALE:GREGORIAN
METHOD:PUBLISH
BEGIN:VEVENT
UID:82bedaad070a7aefb8891e2b900b0f52
CATEGORIES:MIDWEST
CREATED:20210420T170448
SUMMARY:MSAA
DESCRIPTION:<p>Aug. 15-18, 2021</p><p>Midwest Ski Areas Association (MSAA) Summer Meeti
 ngs &amp; Trade Show</p><p><em>In person</em> – Grand Geneva Resort &amp; S
 pa</p><p>www.msaaevents.org</p>
DTSTAMP:20260426T014649
DTSTART:20210815T080000
DTEND:20210818T060000
SEQUENCE:0
TRANSP:OPAQUE
END:VEVENT
END:VCALENDAR