BEGIN:VCALENDAR
VERSION:2.0
PRODID:-//jEvents 2.0 for Joomla//EN
CALSCALE:GREGORIAN
METHOD:PUBLISH
BEGIN:VEVENT
UID:fe5f5bc89e6ffb89cfbbf4bf76f34e25
CATEGORIES:ROCKY MOUNTAINS
CREATED:20220302T204315
SUMMARY:Mountain Travel Symposium
DESCRIPTION:Mountain Travel Symposium\n
APRIL 3 - 8, 2022\n
VAIL, CO\n
https://www.mtnt
 rvl.com (https://www.mtntrvl.com)\n
X-ALT-DESC;FMTTYPE=text/html:<p>Mountain Travel Symposium</p><p>APRIL 3 - 8, 2022</p><p>VAIL, CO</p><p><
 a href="https://www.mtntrvl.com">https://www.mtntrvl.com</a></p>
DTSTAMP:20260419T221906
DTSTART:20220403T080000
DTEND:20220408T060000
SEQUENCE:0
TRANSP:OPAQUE
END:VEVENT
END:VCALENDAR