BEGIN:VCALENDAR
VERSION:2.0
PRODID:-//jEvents 2.0 for Joomla//EN
CALSCALE:GREGORIAN
METHOD:PUBLISH
BEGIN:VEVENT
UID:84761c82ea1cf0e3fda727fb0c97a505
CATEGORIES:PACIFIC
CREATED:20220418T195115
SUMMARY:Ski California LMOE
DESCRIPTION:<p>Ski California LMOE</p><p>June 7-9</p><p>Palisades Tahoe</p><p><a href="
 https://skicalifornia.org/LMOE2022">skicalifornia.org</a></p>
DTSTAMP:20260420T113253
DTSTART;VALUE=DATE:20220607
DTEND;VALUE=DATE:20220610
SEQUENCE:0
TRANSP:OPAQUE
END:VEVENT
END:VCALENDAR