BEGIN:VCALENDAR
VERSION:2.0
PRODID:-//jEvents 2.0 for Joomla//EN
CALSCALE:GREGORIAN
METHOD:PUBLISH
BEGIN:VEVENT
UID:be994be04b282a7b21479603d46bdcbb
CATEGORIES:MIDWEST
CREATED:20220428T190357
SUMMARY:MSAA Summer Meeting & Trade Show
DESCRIPTION:Midwest Ski Areas Association Summer Meeting &amp; Trade Show\n
August 21-2
 4, 2022\nShanty Creek Resort\n
https://www.msaaevents.org (https://www.msaa
 events.org)\n
X-ALT-DESC;FMTTYPE=text/html:<p>Midwest Ski Areas Association Summer Meeting &amp; Trade Show</p><p>Augu
 st 21-24, 2022<br />Shanty Creek Resort</p><p><a href="https://www.msaaeven
 ts.org">https://www.msaaevents.org</a></p>
DTSTAMP:20260419T223639
DTSTART:20220821T080000
DTEND:20220824T060000
SEQUENCE:0
TRANSP:OPAQUE
END:VEVENT
END:VCALENDAR