BEGIN:VCALENDAR
VERSION:2.0
PRODID:-//jEvents 2.0 for Joomla//EN
CALSCALE:GREGORIAN
METHOD:PUBLISH
BEGIN:VEVENT
UID:f26ee1dbb94d6c764905d54601411098
CATEGORIES:PACIFIC
CREATED:20230414T160837
SUMMARY:2023 Ski California LMOE Conference 
DESCRIPTION:<p>2023 Ski California LMOE Conference</p><p>Palisades Tahoe, California</p
 ><p>June 6-8, 2023</p><p><a href="https://web.cvent.com/event/c90a9a21-52c5
 -41f5-8458-dee0c9a7643a/summary">https://web.cvent.com/event/c90a9a21-52c5-
 41f5-8458-dee0c9a7643a/summary</a></p>
DTSTAMP:20260425T143209
DTSTART:20230606T080000
DTEND:20230608T060000
SEQUENCE:0
TRANSP:OPAQUE
END:VEVENT
END:VCALENDAR