BEGIN:VCALENDAR
VERSION:2.0
PRODID:-//jEvents 2.0 for Joomla//EN
CALSCALE:GREGORIAN
METHOD:PUBLISH
BEGIN:VEVENT
UID:5f2c7a7ac35ef1214663bb0a5b825bf2
CATEGORIES:MIDWEST
CREATED:20250127T201621
SUMMARY:2025 MSAA Terrain Park Summit
DESCRIPTION:2025 MSAA Terrain Park Summit\n
February 25-26, 2025\n
Little Switzerland, 
 Slinger, WI\n
https://www.msaaevents.org/ (https://www.msaaevents.org/)\n
X-ALT-DESC;FMTTYPE=text/html:<p>2025 MSAA Terrain Park Summit</p><p>February 25-26, 2025</p><p>Little Sw
 itzerland, Slinger, WI</p><p><a href="https://www.msaaevents.org/">https://
 www.msaaevents.org/</a></p>
DTSTAMP:20260421T103954
DTSTART;VALUE=DATE:20250225
DTEND;VALUE=DATE:20250227
SEQUENCE:0
TRANSP:OPAQUE
END:VEVENT
END:VCALENDAR