BEGIN:VCALENDAR
VERSION:2.0
PRODID:-//jEvents 2.0 for Joomla//EN
CALSCALE:GREGORIAN
METHOD:PUBLISH
BEGIN:VEVENT
UID:1341cd89e710b02de21397d0f6ea8a43
CATEGORIES:MIDWEST
CREATED:20250127T201942
SUMMARY:NSAA Lift Safety Bootcamp
DESCRIPTION:NSAA Lift Safety Bootcamp\n
February 26, 2025\n
Little Switzerland, Slinger
  WI\n
msaaevents.org\n
X-ALT-DESC;FMTTYPE=text/html:<p>NSAA Lift Safety Bootcamp</p><p>February 26, 2025</p><p>Little Switzerla
 nd, Slinger WI</p><p>msaaevents.org</p>
DTSTAMP:20260421T103925
DTSTART;VALUE=DATE:20250226
DTEND;VALUE=DATE:20250227
SEQUENCE:0
TRANSP:OPAQUE
END:VEVENT
END:VCALENDAR