BEGIN:VCALENDAR
VERSION:2.0
PRODID:-//jEvents 2.0 for Joomla//EN
CALSCALE:GREGORIAN
METHOD:PUBLISH
BEGIN:VEVENT
UID:1f2da63d6259504f9296a1318f433871
CATEGORIES:EAST
CREATED:20251020T205928
SUMMARY:Lift Maintenance Seminar
DESCRIPTION:Lift Maintenance Seminar\n
April 13-16\n
Jiminy Peak, MA\n
https://www.ma-l
 ms.org/ (https://www.ma-lms.org/)\n
X-ALT-DESC;FMTTYPE=text/html:<p>Lift Maintenance Seminar</p><p>April 13-16</p><p>Jiminy Peak, MA</p><p><
 a href="https://www.ma-lms.org/" data-saferedirecturl="https://www.google.c
 om/url?q=https://www.ma-lms.org/&amp;source=gmail&amp;ust=1761078138892000&
 amp;usg=AOvVaw0EbOiGXPTqgnWhz28KHuX9">https://www.ma-lms.org/</a></p>
DTSTAMP:20260422T052344
DTSTART;VALUE=DATE:20260413
DTEND;VALUE=DATE:20260417
SEQUENCE:0
TRANSP:OPAQUE
END:VEVENT
END:VCALENDAR