BEGIN:VCALENDAR
VERSION:2.0
PRODID:-//jEvents 2.0 for Joomla//EN
CALSCALE:GREGORIAN
METHOD:PUBLISH
BEGIN:VEVENT
UID:2978005ecf8da18c75a0bb7a3ec86f6c
CATEGORIES:INTERNATIONAL
CREATED:20260121T155031
SUMMARY:Arival 260
DESCRIPTION:Arival 260\n
Valencia Spain\n
April 27-29\n
 (https://arival.travel/event/2
 026-valencia/)https://arival.travel/event/2026-valencia/ (https://arival.tr
 avel/event/2026-valencia/)\n
 Use code MCSAMDC to save 10% off\n
X-ALT-DESC;FMTTYPE=text/html:<p>Arival 260</p><p>Valencia Spain</p><p>April 27-29</p><p><a href="https:/
 /arival.travel/event/2026-valencia/" data-saferedirecturl="https://www.goog
 le.com/url?q=https://arival.travel/event/2026-valencia/&amp;source=gmail&am
 p;ust=1769033095230000&amp;usg=AOvVaw1MTswUP0B9NcsYCemqLAfY"></a><a href="h
 ttps://arival.travel/event/2026-valencia/">https://arival.travel/event/2026
 -valencia/</a></p><p> Use code <strong>MCSAMDC</strong> to save 10% off</p>
DTSTAMP:20260422T045758
DTSTART;VALUE=DATE:20260427
DTEND;VALUE=DATE:20260430
SEQUENCE:0
TRANSP:OPAQUE
END:VEVENT
END:VCALENDAR