BEGIN:VCALENDAR
VERSION:2.0
PRODID:-//jEvents 2.0 for Joomla//EN
CALSCALE:GREGORIAN
METHOD:PUBLISH
BEGIN:VEVENT
UID:4d2daa13aedb9f923d3ce7f981ccbbd3
CATEGORIES:MIDWEST
CREATED:20160205T091005
SUMMARY:MRA ON-HILL DEMO
LOCATION:Boyne Mtn\, MI
DESCRIPTION:<p><span style="font-family: Verdana; font-size: 12px; line-height: 18px;">
 MRA On-Hill Demo</span><br style="font-family: Verdana; font-size: 12px; li
 ne-height: 18px;" /><span style="font-family: Verdana; font-size: 12px; lin
 e-height: 18px;">February 9-11, 2016 Boyne Mtn, MI</span><br style="font-fa
 mily: Verdana; font-size: 12px; line-height: 18px;" /><span style="font-fam
 ily: Verdana; font-size: 12px; line-height: 18px;">http://midwestreps.org/<
 /span></p>
DTSTAMP:20260419T131258
DTSTART;VALUE=DATE:20160209
DTEND;VALUE=DATE:20160212
SEQUENCE:0
TRANSP:OPAQUE
END:VEVENT
END:VCALENDAR