BEGIN:VCALENDAR
VERSION:2.0
PRODID:-//jEvents 2.0 for Joomla//EN
CALSCALE:GREGORIAN
METHOD:PUBLISH
BEGIN:VEVENT
UID:09a34706bc25cad942f62fde3132ef4d
CATEGORIES:EAST
CREATED:20160205T091145
SUMMARY:U.S. GRAND PRIX FREESKIING & SNOWBOARDING
LOCATION:Boston\, MA
DESCRIPTION:U.S. Grand Prix Freeskiing &amp; SnowboardingFebruary 11-12, 2016 Fenway-Bo
 ston, MAhttps://usfreeskiing.com/news/ski-and-snowboard-big-air-coming-fenw
 ay\n
X-ALT-DESC;FMTTYPE=text/html:<p><span style="font-family: Verdana; font-size: 12px; line-height: 18px;">
 U.S. Grand Prix Freeskiing & Snowboarding</span><br style="font-family: Ver
 dana; font-size: 12px; line-height: 18px;" /><span style="font-family: Verd
 ana; font-size: 12px; line-height: 18px;">February 11-12, 2016 Fenway-Bosto
 n, MA</span><br style="font-family: Verdana; font-size: 12px; line-height: 
 18px;" /><span style="font-family: Verdana; font-size: 12px; line-height: 1
 8px;">https://usfreeskiing.com/news/ski-and-snowboard-big-air-coming-fenway
 </span></p>
DTSTAMP:20260419T132512
DTSTART;VALUE=DATE:20160211
DTEND;VALUE=DATE:20160213
SEQUENCE:0
TRANSP:OPAQUE
END:VEVENT
END:VCALENDAR