BEGIN:VCALENDAR
VERSION:2.0
PRODID:-//jEvents 2.0 for Joomla//EN
CALSCALE:GREGORIAN
METHOD:PUBLISH
BEGIN:VEVENT
UID:4342194ebb71c51be22f6f51216c5470
CATEGORIES:CANADA WEST
CREATED:20160922T155421
SUMMARY:Calgary Snow Show
LOCATION:Calgary\, Alberta
DESCRIPTION:<p>Calgary Snow Show</p><p>November 5-6, 2016</p><p>Calgary, Alberta</p><p>
 <a href="http://www.calgarysnowshow.com/">http://www.calgarysnowshow.com/</
 a></p>
DTSTAMP:20260419T233649
DTSTART;VALUE=DATE:20161105
DTEND;VALUE=DATE:20161107
SEQUENCE:0
TRANSP:OPAQUE
END:VEVENT
END:VCALENDAR