BEGIN:VCALENDAR
VERSION:2.0
PRODID:-//jEvents 2.0 for Joomla//EN
CALSCALE:GREGORIAN
METHOD:PUBLISH
BEGIN:VEVENT
UID:b37534731b296b67b74226f38f6ff900
CATEGORIES:PACIFIC
CREATED:20160205T091323
SUMMARY:AGENDA
LOCATION:Las Vegas\, NV
DESCRIPTION:AgendaFebruary 15-17,2016 Las Vegas, NVhttp://www.agendashow.com\n
X-ALT-DESC;FMTTYPE=text/html:<p><span style="font-family: Verdana; font-size: 12px; line-height: 18px;">
 Agenda</span><br style="font-family: Verdana; font-size: 12px; line-height:
  18px;" /><span style="font-family: Verdana; font-size: 12px; line-height: 
 18px;">February 15-17,2016 Las Vegas, NV</span><br style="font-family: Verd
 ana; font-size: 12px; line-height: 18px;" /><span style="font-family: Verda
 na; font-size: 12px; line-height: 18px;">http://www.agendashow.com</span></
 p>
DTSTAMP:20260419T141435
DTSTART;VALUE=DATE:20160215
DTEND;VALUE=DATE:20160218
SEQUENCE:0
TRANSP:OPAQUE
END:VEVENT
END:VCALENDAR